BEGIN:VCALENDAR
VERSION:2.0
PRODID:-//ChurchDev//Events//EN
CALSCALE:GREGORIAN
METHOD:PUBLISH
BEGIN:VEVENT
UID:4416-20260427@www.corecreekmc.org
SUMMARY:N.E.F. Concert of Prayer here at Core Creek
DTSTART:20260427T230000Z
DTEND:20260428T000000Z
DESCRIPTION:https://www.corecreekmc.org/events/n-e-f-concert-of-prayer-here-at-core-creek/
LOCATION:124 Hardesty Loop Road\, Newport\, NC  28570
URL:https://www.corecreekmc.org/events/n-e-f-concert-of-prayer-here-at-core-creek/
DTSTAMP:20260419T122158Z
END:VEVENT
END:VCALENDAR
